BEGIN:VCALENDAR
VERSION:2.0
PRODID:-//StephenJaySchwartz.com - ECPv6.15.20//NONSGML v1.0//EN
CALSCALE:GREGORIAN
METHOD:PUBLISH
X-ORIGINAL-URL:https://www.stephenjayschwartz.com
X-WR-CALDESC:Events for StephenJaySchwartz.com
REFRESH-INTERVAL;VALUE=DURATION:PT1H
X-Robots-Tag:noindex
X-PUBLISHED-TTL:PT1H
BEGIN:VTIMEZONE
TZID:America/Los_Angeles
BEGIN:DAYLIGHT
TZOFFSETFROM:-0800
TZOFFSETTO:-0700
TZNAME:PDT
DTSTART:20160313T100000
END:DAYLIGHT
BEGIN:STANDARD
TZOFFSETFROM:-0700
TZOFFSETTO:-0800
TZNAME:PST
DTSTART:20161106T090000
END:STANDARD
BEGIN:DAYLIGHT
TZOFFSETFROM:-0800
TZOFFSETTO:-0700
TZNAME:PDT
DTSTART:20170312T100000
END:DAYLIGHT
BEGIN:STANDARD
TZOFFSETFROM:-0700
TZOFFSETTO:-0800
TZNAME:PST
DTSTART:20171105T090000
END:STANDARD
BEGIN:DAYLIGHT
TZOFFSETFROM:-0800
TZOFFSETTO:-0700
TZNAME:PDT
DTSTART:20180311T100000
END:DAYLIGHT
BEGIN:STANDARD
TZOFFSETFROM:-0700
TZOFFSETTO:-0800
TZNAME:PST
DTSTART:20181104T090000
END:STANDARD
END:VTIMEZONE
BEGIN:VEVENT
DTSTART;TZID=America/Los_Angeles:20170422T110000
DTEND;TZID=America/Los_Angeles:20170422T120000
DTSTAMP:20260423T103506
CREATED:20170318T022028Z
LAST-MODIFIED:20170318T022028Z
UID:949-1492858800-1492862400@www.stephenjayschwartz.com
SUMMARY:Crime Fiction: A Question of Character
DESCRIPTION:I will be moderating Crime Fiction: A Question of Character\, Conversation 1021 \nLA Times Festival of Books\nSaturday\, April 22 • 11:00am – 12:00pm
URL:https://www.stephenjayschwartz.com/event/crime-fiction-a-question-of-character/
LOCATION:University of Southern California\, University of Southern California\, Los Angeles\, CA\, 90089\, United States
ATTACH;FMTTYPE=image/png:https://www.stephenjayschwartz.com/wp-content/uploads/2017/02/FestivalOfBooks_Logo_Events.png
END:VEVENT
BEGIN:VEVENT
DTSTART;TZID=America/Los_Angeles:20170422T000000
DTEND;TZID=America/Los_Angeles:20170423T235959
DTSTAMP:20260423T103506
CREATED:20170206T052321Z
LAST-MODIFIED:20170206T052714Z
UID:746-1492819200-1492991999@www.stephenjayschwartz.com
SUMMARY:Los Angeles Times Festival of Books
DESCRIPTION:
URL:https://www.stephenjayschwartz.com/event/los-angeles-times-festival-of-books/
LOCATION:University of Southern California\, University of Southern California\, Los Angeles\, CA\, 90089\, United States
ATTACH;FMTTYPE=image/png:https://www.stephenjayschwartz.com/wp-content/uploads/2017/02/FestivalOfBooks_Logo_Events.png
END:VEVENT
END:VCALENDAR